BEGIN:VCALENDAR
VERSION:2.0
PRODID:-//hacksw/handcal//NONSGML v1.0//EN
BEGIN:VEVENT
SUMMARY:Viens avec tes copains !
UID:469f23c7-18c9-4d58-ae56-69c85de079c1
DTSTART:20260626T220000Z
DTEND:20260627T220000Z
LOCATION:Localisation   
CATEGORIES:Festif
STATUS:
DESCRIPTION:<p>Le <strong>samedi 27 juin</strong>, les <span
 style="color:#f39c12;"><strong>Phenix </strong></span>organise une
 journee <strong>"Viens avec tes copains </strong>!". </p>
 
 <p>Cette
 journee est l'occasion de :</p>
 
 <ul>
 	<li>faire decouvrir le
 baseball et le softball</li>
 	<li>marquer la fin de la
 saison. </li>
 </ul>
 
 <p><strong>Alors tu souhaites faire decouvrir
 le baseball/softball a tes amis, invite les a venir le 27 juin
 !</strong></p>
URL;VALUE=URI:https://www.phenixbaseballclub.com/evenements/2026/06/27/viens-avec-tes-copains-2442474
END:VEVENT
END:VCALENDAR
