BEGIN:VCALENDAR
VERSION:2.0
PRODID:-//hacksw/handcal//NONSGML v1.0//EN
BEGIN:VEVENT
SUMMARY:Championnat 15U
UID:d7c862e1-681c-4e21-af1e-de3a79a2c9c0
DTSTART:20260410T220000Z
DTEND:20260411T220000Z
LOCATION:Localisation   
CATEGORIES:Sportif
STATUS:
DESCRIPTION:<p>Pour une nouvelle journee du championnat 15U, les
 jeunes Phenix accueilleront : </p>
 
 <div><span class="x193iq5w
 xeuugli x13faqbe x1vvkbs x1xmvt09 x1lliihq x1s928wv xhkezso x1gmr53x
 x1cpjm7i x1fgarty x1943h6x xudqn12 x3x7a5m x6prxxf xvq8zen xo1l8bm
 xzsf02u x1yc453h">- les <span class="html-span xdj266r x14z9mp
 xat24cr x1lziwak xexx8yu xyri2b x18d9i69 x1c1uobl x1hl2dhg x16tdsg8
 x1vvkbs"><a class="x1i10hfl xjbqb8w x1ejq31n x18oe1m7 x1sy0etr
 xstzfhl x972fbf x10w94by x1qhh985 x14e42zd x9f619 x1ypdohk xt0psk2
 x3ct3a4 xdj266r x14z9mp xat24cr x1lziwak xexx8yu xyri2b x18d9i69
 x1c1uobl x16tdsg8 x1hl2dhg xggy1nq x1a2a7pz xkrqix3 x1sur9pj x1fey0fg
 x1s688f"
 href="https://www.facebook.com/HAWKS.Baseball.LaGuerche?__cft__%5B0%5D=AZbriCE-qWiOElSiVPBvN1124tC21FS5ziYSpIHt8DBFw37mL7MH-AwH5q8A9tiEHa3DlwmRD0DDFudEQZO_0R2TPyBWmHdctcE1yat4zJ1_-mu6oBkvvVNwDBeYuuItsWKEFodWUMzXqUQkY2JNcbHBFmVCnHpLTOpVnZVW4_nCl1MDCubEpBirlWOgQd8Vduw&__tn__=-%5DK-R"
 target="_blank" rel="noreferrer noopener"><span
 style="color:#2980b9;"><span class="xt0psk2"><span
 class="xjp7ctv">Hawks Baseball &
 Softball</span></span></span></a></span> </span></div>
 
 <div><span
 class="x193iq5w xeuugli x13faqbe x1vvkbs x1xmvt09 x1lliihq x1s928wv
 xhkezso x1gmr53x x1cpjm7i x1fgarty x1943h6x xudqn12 x3x7a5m x6prxxf
 xvq8zen xo1l8bm xzsf02u x1yc453h">- l'alliance<span class="html-span
 xdj266r x14z9mp xat24cr x1lziwak xexx8yu xyri2b x18d9i69 x1c1uobl
 x1hl2dhg x16tdsg8 x1vvkbs"><a class="x1i10hfl xjbqb8w x1ejq31n
 x18oe1m7 x1sy0etr xstzfhl x972fbf x10w94by x1qhh985 x14e42zd x9f619
 x1ypdohk xt0psk2 x3ct3a4 xdj266r x14z9mp xat24cr x1lziwak xexx8yu
 xyri2b x18d9i69 x1c1uobl x16tdsg8 x1hl2dhg xggy1nq x1a2a7pz xkrqix3
 x1sur9pj x1fey0fg x1s688f"
 href="https://www.facebook.com/brestbaseball?__cft__%5B0%5D=AZbriCE-qWiOElSiVPBvN1124tC21FS5ziYSpIHt8DBFw37mL7MH-AwH5q8A9tiEHa3DlwmRD0DDFudEQZO_0R2TPyBWmHdctcE1yat4zJ1_-mu6oBkvvVNwDBeYuuItsWKEFodWUMzXqUQkY2JNcbHBFmVCnHpLTOpVnZVW4_nCl1MDCubEpBirlWOgQd8Vduw&__tn__=-%5DK-R"
 target="_blank" rel="noreferrer noopener"><span
 style="color:#1abc9c;"><span class="xt0psk2"><span
 class="xjp7ctv">FLSM Brest Baseball
 Softball</span></span></span></a></span> , <span class="html-span
 xdj266r x14z9mp xat24cr x1lziwak xexx8yu xyri2b x18d9i69 x1c1uobl
 x1hl2dhg x16tdsg8 x1vvkbs"><a class="x1i10hfl xjbqb8w x1ejq31n
 x18oe1m7 x1sy0etr xstzfhl x972fbf x10w94by x1qhh985 x14e42zd x9f619
 x1ypdohk xt0psk2 x3ct3a4 xdj266r x14z9mp xat24cr x1lziwak xexx8yu
 xyri2b x18d9i69 x1c1uobl x16tdsg8 x1hl2dhg xggy1nq x1a2a7pz xkrqix3
 x1sur9pj x1fey0fg x1s688f"
 href="https://www.facebook.com/sharks29?__cft__%5B0%5D=AZbriCE-qWiOElSiVPBvN1124tC21FS5ziYSpIHt8DBFw37mL7MH-AwH5q8A9tiEHa3DlwmRD0DDFudEQZO_0R2TPyBWmHdctcE1yat4zJ1_-mu6oBkvvVNwDBeYuuItsWKEFodWUMzXqUQkY2JNcbHBFmVCnHpLTOpVnZVW4_nCl1MDCubEpBirlWOgQd8Vduw&__tn__=-%5DK-R"
 target="_blank" rel="noreferrer noopener"><span
 style="color:#3498db;"><span class="xt0psk2"><span
 class="xjp7ctv">Sharks29 Baseball -
 Softball</span></span></span></a></span> et<span class="html-span
 xdj266r x14z9mp xat24cr x1lziwak xexx8yu xyri2b x18d9i69 x1c1uobl
 x1hl2dhg x16tdsg8 x1vvkbs"><a class="x1i10hfl xjbqb8w x1ejq31n
 x18oe1m7 x1sy0etr xstzfhl x972fbf x10w94by x1qhh985 x14e42zd x9f619
 x1ypdohk xt0psk2 x3ct3a4 xdj266r x14z9mp xat24cr x1lziwak xexx8yu
 xyri2b x18d9i69 x1c1uobl x16tdsg8 x1hl2dhg xggy1nq x1a2a7pz xkrqix3
 x1sur9pj x1fey0fg x1s688f"
 href="https://www.facebook.com/plouzane.baseball?__cft__%5B0%5D=AZbriCE-qWiOElSiVPBvN1124tC21FS5ziYSpIHt8DBFw37mL7MH-AwH5q8A9tiEHa3DlwmRD0DDFudEQZO_0R2TPyBWmHdctcE1yat4zJ1_-mu6oBkvvVNwDBeYuuItsWKEFodWUMzXqUQkY2JNcbHBFmVCnHpLTOpVnZVW4_nCl1MDCubEpBirlWOgQd8Vduw&__tn__=-%5DK-R"
 target="_blank" rel="noreferrer noopener"><span
 style="color:#d35400;"><span class="xt0psk2"><span
 class="xjp7ctv">Plouzane Cormorans
 Baseball</span></span></span></a></span> </span></div>
URL;VALUE=URI:https://www.phenixbaseballclub.com/evenements/2026/04/11/championnat-15u-2441909
END:VEVENT
END:VCALENDAR
